BEGIN:VCALENDAR
VERSION:2.0
PRODID:-//BÖF Bayrisch Österreichischer Feinklang - ECPv6.15.16.1//NONSGML v1.0//EN
CALSCALE:GREGORIAN
METHOD:PUBLISH
X-WR-CALNAME:BÖF Bayrisch Österreichischer Feinklang
X-ORIGINAL-URL:https://www.duoboef.com
X-WR-CALDESC:Veranstaltungen für BÖF Bayrisch Österreichischer Feinklang
REFRESH-INTERVAL;VALUE=DURATION:PT1H
X-Robots-Tag:noindex
X-PUBLISHED-TTL:PT1H
BEGIN:VTIMEZONE
TZID:Europe/Berlin
BEGIN:DAYLIGHT
TZOFFSETFROM:+0100
TZOFFSETTO:+0200
TZNAME:CEST
DTSTART:20250330T010000
END:DAYLIGHT
BEGIN:STANDARD
TZOFFSETFROM:+0200
TZOFFSETTO:+0100
TZNAME:CET
DTSTART:20251026T010000
END:STANDARD
BEGIN:DAYLIGHT
TZOFFSETFROM:+0100
TZOFFSETTO:+0200
TZNAME:CEST
DTSTART:20260329T010000
END:DAYLIGHT
BEGIN:STANDARD
TZOFFSETFROM:+0200
TZOFFSETTO:+0100
TZNAME:CET
DTSTART:20261025T010000
END:STANDARD
BEGIN:DAYLIGHT
TZOFFSETFROM:+0100
TZOFFSETTO:+0200
TZNAME:CEST
DTSTART:20270328T010000
END:DAYLIGHT
BEGIN:STANDARD
TZOFFSETFROM:+0200
TZOFFSETTO:+0100
TZNAME:CET
DTSTART:20271031T010000
END:STANDARD
END:VTIMEZONE
BEGIN:VEVENT
DTSTART;TZID=Europe/Berlin:20261022T200000
DTEND;TZID=Europe/Berlin:20261022T210000
DTSTAMP:20260423T003531
CREATED:20251229T123505Z
LAST-MODIFIED:20251229T123505Z
UID:7577-1792699200-1792702800@www.duoboef.com
SUMMARY:BÖF…grenzenlos anders 2026 in Bad Birnbach
DESCRIPTION:Details folgen!
URL:https://www.duoboef.com/event/boefgrenzenlos-anders-2026-in-bad-birnbach/
LOCATION:Atrium (Saal Pankratius)\, Kurallee 7\, Bad Birnbach\, Niederbayern\, 84364\, Germany
ATTACH;FMTTYPE=image/jpeg:https://www.duoboef.com/wp-content/uploads/2024/08/boef_0571_sw-1.jpg
END:VEVENT
END:VCALENDAR