BEGIN:VCALENDAR
VERSION:2.0
PRODID:-//BÖF Bayrisch Österreichischer Feinklang - ECPv6.15.16.1//NONSGML v1.0//EN
CALSCALE:GREGORIAN
METHOD:PUBLISH
X-ORIGINAL-URL:https://www.duoboef.com
X-WR-CALDESC:Veranstaltungen für BÖF Bayrisch Österreichischer Feinklang
REFRESH-INTERVAL;VALUE=DURATION:PT1H
X-Robots-Tag:noindex
X-PUBLISHED-TTL:PT1H
BEGIN:VTIMEZONE
TZID:Europe/Berlin
BEGIN:DAYLIGHT
TZOFFSETFROM:+0100
TZOFFSETTO:+0200
TZNAME:CEST
DTSTART:20240331T010000
END:DAYLIGHT
BEGIN:STANDARD
TZOFFSETFROM:+0200
TZOFFSETTO:+0100
TZNAME:CET
DTSTART:20241027T010000
END:STANDARD
BEGIN:DAYLIGHT
TZOFFSETFROM:+0100
TZOFFSETTO:+0200
TZNAME:CEST
DTSTART:20250330T010000
END:DAYLIGHT
BEGIN:STANDARD
TZOFFSETFROM:+0200
TZOFFSETTO:+0100
TZNAME:CET
DTSTART:20251026T010000
END:STANDARD
BEGIN:DAYLIGHT
TZOFFSETFROM:+0100
TZOFFSETTO:+0200
TZNAME:CEST
DTSTART:20260329T010000
END:DAYLIGHT
BEGIN:STANDARD
TZOFFSETFROM:+0200
TZOFFSETTO:+0100
TZNAME:CET
DTSTART:20261025T010000
END:STANDARD
END:VTIMEZONE
BEGIN:VEVENT
DTSTART;TZID=Europe/Berlin:20251125T193000
DTEND;TZID=Europe/Berlin:20251125T213000
DTSTAMP:20260423T065249
CREATED:20250209T095222Z
LAST-MODIFIED:20251120T101407Z
UID:7548-1764099000-1764106200@www.duoboef.com
SUMMARY:BÖF...grenzenlos anders 2025 in Altötting
DESCRIPTION:🎶 BÖF meets AÖ 4.0 🎶 Wir freuen uns sehr auf unser Saisonfinale in der Berufsfachschule für Musik in Altötting 🥳 ➡️ https://www.bfm-altoetting.de/event/boef-grenzenlos-anders/ \n 
URL:https://www.duoboef.com/event/boef-grenzenlos-anders-2025-in-altoetting/
LOCATION:Max-Keller-Schule\, Kapellplatz 36\, Altötting\, Bayern\, 84503\, Germany
ATTACH;FMTTYPE=image/jpeg:https://www.duoboef.com/wp-content/uploads/2024/08/boef_0571_sw-1.jpg
END:VEVENT
END:VCALENDAR