BEGIN:VCALENDAR
VERSION:2.0
PRODID:-//BÖF Bayrisch Österreichischer Feinklang - ECPv6.15.16.1//NONSGML v1.0//EN
CALSCALE:GREGORIAN
METHOD:PUBLISH
X-WR-CALNAME:BÖF Bayrisch Österreichischer Feinklang
X-ORIGINAL-URL:https://www.duoboef.com
X-WR-CALDESC:Veranstaltungen für BÖF Bayrisch Österreichischer Feinklang
REFRESH-INTERVAL;VALUE=DURATION:PT1H
X-Robots-Tag:noindex
X-PUBLISHED-TTL:PT1H
BEGIN:VTIMEZONE
TZID:Europe/Berlin
BEGIN:DAYLIGHT
TZOFFSETFROM:+0100
TZOFFSETTO:+0200
TZNAME:CEST
DTSTART:20230326T010000
END:DAYLIGHT
BEGIN:STANDARD
TZOFFSETFROM:+0200
TZOFFSETTO:+0100
TZNAME:CET
DTSTART:20231029T010000
END:STANDARD
BEGIN:DAYLIGHT
TZOFFSETFROM:+0100
TZOFFSETTO:+0200
TZNAME:CEST
DTSTART:20240331T010000
END:DAYLIGHT
BEGIN:STANDARD
TZOFFSETFROM:+0200
TZOFFSETTO:+0100
TZNAME:CET
DTSTART:20241027T010000
END:STANDARD
BEGIN:DAYLIGHT
TZOFFSETFROM:+0100
TZOFFSETTO:+0200
TZNAME:CEST
DTSTART:20250330T010000
END:DAYLIGHT
BEGIN:STANDARD
TZOFFSETFROM:+0200
TZOFFSETTO:+0100
TZNAME:CET
DTSTART:20251026T010000
END:STANDARD
END:VTIMEZONE
BEGIN:VEVENT
DTSTART;TZID=Europe/Berlin:20240322T193000
DTEND;TZID=Europe/Berlin:20240322T213000
DTSTAMP:20260424T171052
CREATED:20231214T223948Z
LAST-MODIFIED:20231214T223948Z
UID:7343-1711135800-1711143000@www.duoboef.com
SUMMARY:BÖF...grenzenlos anders 2024: Atelierkonzert bei Silke von Clarmann im InnCarree/Mühldorf am Inn
DESCRIPTION:Für mehr Informationen bitte hier klicken!
URL:https://www.duoboef.com/event/boef-grenzenlos-anders-2024-atelierkonzert-bei-silke-von-clarmann-im-inncare-muehldorf-am-inn/
LOCATION:Atelier & Galerie Silke von Clarmann (im InnCarree)\, Äußere Neumarkter Str. 80\, Mühldorf am Inn\, Bayern\, 84453\, Germany
ATTACH;FMTTYPE=:
END:VEVENT
END:VCALENDAR