BEGIN:VCALENDAR
VERSION:2.0
PRODID:-//BÖF Bayrisch Österreichischer Feinklang - ECPv6.15.16.1//NONSGML v1.0//EN
CALSCALE:GREGORIAN
METHOD:PUBLISH
X-WR-CALNAME:BÖF Bayrisch Österreichischer Feinklang
X-ORIGINAL-URL:https://www.duoboef.com
X-WR-CALDESC:Veranstaltungen für BÖF Bayrisch Österreichischer Feinklang
REFRESH-INTERVAL;VALUE=DURATION:PT1H
X-Robots-Tag:noindex
X-PUBLISHED-TTL:PT1H
BEGIN:VTIMEZONE
TZID:Europe/Berlin
BEGIN:DAYLIGHT
TZOFFSETFROM:+0100
TZOFFSETTO:+0200
TZNAME:CEST
DTSTART:20220327T010000
END:DAYLIGHT
BEGIN:STANDARD
TZOFFSETFROM:+0200
TZOFFSETTO:+0100
TZNAME:CET
DTSTART:20221030T010000
END:STANDARD
BEGIN:DAYLIGHT
TZOFFSETFROM:+0100
TZOFFSETTO:+0200
TZNAME:CEST
DTSTART:20230326T010000
END:DAYLIGHT
BEGIN:STANDARD
TZOFFSETFROM:+0200
TZOFFSETTO:+0100
TZNAME:CET
DTSTART:20231029T010000
END:STANDARD
BEGIN:DAYLIGHT
TZOFFSETFROM:+0100
TZOFFSETTO:+0200
TZNAME:CEST
DTSTART:20240331T010000
END:DAYLIGHT
BEGIN:STANDARD
TZOFFSETFROM:+0200
TZOFFSETTO:+0100
TZNAME:CET
DTSTART:20241027T010000
END:STANDARD
END:VTIMEZONE
BEGIN:VEVENT
DTSTART;TZID=Europe/Berlin:20231117T180000
DTEND;TZID=Europe/Berlin:20231117T210000
DTSTAMP:20260424T231951
CREATED:20231105T095456Z
LAST-MODIFIED:20231105T095456Z
UID:7321-1700244000-1700254800@www.duoboef.com
SUMMARY:BÖF...grenzenlos anders - musikalische Umrahmung Lesung Andreas Altmann in Reisbach
DESCRIPTION:Wir freuen uns nach der Sommerpause auf einen ganz besonderen Abend im Gasthof zur Post in Reisbach: Andreas Altmann liest dort exklusiv kurz nach Veröffentlichung aus seinem neuen Buch „Morning has broken – Leben Reisen Schreiben“ und wir dürfen seine Lesung musikalisch umrahmen! Alle Infos finden Sie auf der Website des Veranstalters Andrerseit e.V. unter diesem Link.
URL:https://www.duoboef.com/event/boef-grenzenlos-anders-musikalische-umrahmung-lesung-andreas-altmann-in-reisbach/
LOCATION:Gasthaus zur Post\, Steinberger Berg 2\, Reisbach\, Niederbayern\, 94419\, Germany
END:VEVENT
BEGIN:VEVENT
DTSTART;TZID=Europe/Berlin:20231121T193000
DTEND;TZID=Europe/Berlin:20231121T213000
DTSTAMP:20260424T231951
CREATED:20231105T093239Z
LAST-MODIFIED:20231105T093239Z
UID:7319-1700595000-1700602200@www.duoboef.com
SUMMARY:BÖF...grenzenlos anders 2023 in Altötting
DESCRIPTION:Wir freuen uns sehr\, dass wir auch 2023 in Altötting in der Max-Keller-Schule zu Gast sein dürfen! Alle Infos finden Sie hier.
URL:https://www.duoboef.com/event/boef-grenzenlos-anders-2023-in-altoetting/
LOCATION:Niederbayern
ATTACH;FMTTYPE=:
END:VEVENT
END:VCALENDAR