BEGIN:VCALENDAR
VERSION:2.0
PRODID:-//BÖF Bayrisch Österreichischer Feinklang - ECPv6.15.16.1//NONSGML v1.0//EN
CALSCALE:GREGORIAN
METHOD:PUBLISH
X-WR-CALNAME:BÖF Bayrisch Österreichischer Feinklang
X-ORIGINAL-URL:https://www.duoboef.com
X-WR-CALDESC:Veranstaltungen für BÖF Bayrisch Österreichischer Feinklang
REFRESH-INTERVAL;VALUE=DURATION:PT1H
X-Robots-Tag:noindex
X-PUBLISHED-TTL:PT1H
BEGIN:VTIMEZONE
TZID:Europe/Berlin
BEGIN:DAYLIGHT
TZOFFSETFROM:+0100
TZOFFSETTO:+0200
TZNAME:CEST
DTSTART:20220327T010000
END:DAYLIGHT
BEGIN:STANDARD
TZOFFSETFROM:+0200
TZOFFSETTO:+0100
TZNAME:CET
DTSTART:20221030T010000
END:STANDARD
BEGIN:DAYLIGHT
TZOFFSETFROM:+0100
TZOFFSETTO:+0200
TZNAME:CEST
DTSTART:20230326T010000
END:DAYLIGHT
BEGIN:STANDARD
TZOFFSETFROM:+0200
TZOFFSETTO:+0100
TZNAME:CET
DTSTART:20231029T010000
END:STANDARD
BEGIN:DAYLIGHT
TZOFFSETFROM:+0100
TZOFFSETTO:+0200
TZNAME:CEST
DTSTART:20240331T010000
END:DAYLIGHT
BEGIN:STANDARD
TZOFFSETFROM:+0200
TZOFFSETTO:+0100
TZNAME:CET
DTSTART:20241027T010000
END:STANDARD
END:VTIMEZONE
BEGIN:VEVENT
DTSTART;TZID=Europe/Berlin:20230708T193000
DTEND;TZID=Europe/Berlin:20230708T213000
DTSTAMP:20260425T053633
CREATED:20230629T121433Z
LAST-MODIFIED:20230629T121433Z
UID:7309-1688844600-1688851800@www.duoboef.com
SUMMARY:BÖF…grenzenlos anders OPEN AIR in Dingolfing
DESCRIPTION:Am 08. Juli ist es endlich soweit: BÖF ist zu Gast auf der Open Air-Bühne im Innenhof der Herzogsburg in Dingolfing. Hier finden Sie alle Infos zum Konzert. Wir freuen uns auf einen wunderbaren „BÖF meets SUMMER“-Abend in Dingolfing ?☀️?!
URL:https://www.duoboef.com/event/boefgrenzenlos-anders-open-air-in-dingolfing/
LOCATION:Open Air Dingolfing\, Steinweg 38\, Dingolfing\, Niederbayern\, 84130
ATTACH;FMTTYPE=:
END:VEVENT
BEGIN:VEVENT
DTSTART;TZID=Europe/Berlin:20230723T120000
DTEND;TZID=Europe/Berlin:20230723T133000
DTSTAMP:20260425T053633
CREATED:20230716T130653Z
LAST-MODIFIED:20230716T130653Z
UID:7314-1690113600-1690119000@www.duoboef.com
SUMMARY:BÖF...grenzenlos anders beim Sinnflut Festival 2023 in Erding
DESCRIPTION:BÖF goes Sinnflut Festival Erding!!! Um 12 Uhr geht´s los im „Tanzgarten“ – wir spielen bei jedem Wetter. Alle weiteren Infos zum Festival gibt es hier.
URL:https://www.duoboef.com/event/boef-grenzenlos-anders-beim-sinnflut-festival-2023-in-erding/
LOCATION:Sinnflut Festival Erding\, Am Stadion (Festplatz Erding\, Bühne: Tanzgarten)\, Erding\, Oberbayern\, 85435
ATTACH;FMTTYPE=:
END:VEVENT
END:VCALENDAR