BEGIN:VCALENDAR
VERSION:2.0
PRODID:-//BÖF Bayrisch Österreichischer Feinklang - ECPv6.15.16.1//NONSGML v1.0//EN
CALSCALE:GREGORIAN
METHOD:PUBLISH
X-WR-CALNAME:BÖF Bayrisch Österreichischer Feinklang
X-ORIGINAL-URL:https://www.duoboef.com
X-WR-CALDESC:Veranstaltungen für BÖF Bayrisch Österreichischer Feinklang
REFRESH-INTERVAL;VALUE=DURATION:PT1H
X-Robots-Tag:noindex
X-PUBLISHED-TTL:PT1H
BEGIN:VTIMEZONE
TZID:Europe/Berlin
BEGIN:DAYLIGHT
TZOFFSETFROM:+0100
TZOFFSETTO:+0200
TZNAME:CEST
DTSTART:20240331T010000
END:DAYLIGHT
BEGIN:STANDARD
TZOFFSETFROM:+0200
TZOFFSETTO:+0100
TZNAME:CET
DTSTART:20241027T010000
END:STANDARD
BEGIN:DAYLIGHT
TZOFFSETFROM:+0100
TZOFFSETTO:+0200
TZNAME:CEST
DTSTART:20250330T010000
END:DAYLIGHT
BEGIN:STANDARD
TZOFFSETFROM:+0200
TZOFFSETTO:+0100
TZNAME:CET
DTSTART:20251026T010000
END:STANDARD
BEGIN:DAYLIGHT
TZOFFSETFROM:+0100
TZOFFSETTO:+0200
TZNAME:CEST
DTSTART:20260329T010000
END:DAYLIGHT
BEGIN:STANDARD
TZOFFSETFROM:+0200
TZOFFSETTO:+0100
TZNAME:CET
DTSTART:20261025T010000
END:STANDARD
END:VTIMEZONE
BEGIN:VEVENT
DTSTART;TZID=Europe/Berlin:20250706T110000
DTEND;TZID=Europe/Berlin:20250706T130000
DTSTAMP:20260423T155219
CREATED:20240906T071654Z
LAST-MODIFIED:20250209T093549Z
UID:7486-1751799600-1751806800@www.duoboef.com
SUMMARY:BÖF...grenzenlos anders 2025 in Freilassing
DESCRIPTION:BÖF zu Gast in einer ganz besonderen Location\, der Lokwelt Freilassing! Hier geht´s zum Vorverkauf – bitte einsteigen 😉
URL:https://www.duoboef.com/event/boef-grenzenlos-anders-2025-in-freilassing/
LOCATION:Lokwelt Freilassing\, Westendstrasse 5\, Freilassing\, Bayern\, 83395\, Germany
ATTACH;FMTTYPE=image/jpeg:https://www.duoboef.com/wp-content/uploads/2024/08/boef_0571_sw-1.jpg
END:VEVENT
END:VCALENDAR