BEGIN:VCALENDAR
VERSION:2.0
PRODID:-//BÖF Bayrisch Österreichischer Feinklang - ECPv6.15.16.1//NONSGML v1.0//EN
CALSCALE:GREGORIAN
METHOD:PUBLISH
X-WR-CALNAME:BÖF Bayrisch Österreichischer Feinklang
X-ORIGINAL-URL:https://www.duoboef.com
X-WR-CALDESC:Veranstaltungen für BÖF Bayrisch Österreichischer Feinklang
REFRESH-INTERVAL;VALUE=DURATION:PT1H
X-Robots-Tag:noindex
X-PUBLISHED-TTL:PT1H
BEGIN:VTIMEZONE
TZID:Europe/Berlin
BEGIN:DAYLIGHT
TZOFFSETFROM:+0100
TZOFFSETTO:+0200
TZNAME:CEST
DTSTART:20240331T010000
END:DAYLIGHT
BEGIN:STANDARD
TZOFFSETFROM:+0200
TZOFFSETTO:+0100
TZNAME:CET
DTSTART:20241027T010000
END:STANDARD
BEGIN:DAYLIGHT
TZOFFSETFROM:+0100
TZOFFSETTO:+0200
TZNAME:CEST
DTSTART:20250330T010000
END:DAYLIGHT
BEGIN:STANDARD
TZOFFSETFROM:+0200
TZOFFSETTO:+0100
TZNAME:CET
DTSTART:20251026T010000
END:STANDARD
BEGIN:DAYLIGHT
TZOFFSETFROM:+0100
TZOFFSETTO:+0200
TZNAME:CEST
DTSTART:20260329T010000
END:DAYLIGHT
BEGIN:STANDARD
TZOFFSETFROM:+0200
TZOFFSETTO:+0100
TZNAME:CET
DTSTART:20261025T010000
END:STANDARD
END:VTIMEZONE
BEGIN:VEVENT
DTSTART;TZID=Europe/Berlin:20250216T153000
DTEND;TZID=Europe/Berlin:20250216T163000
DTSTAMP:20260424T020831
CREATED:20240906T070731Z
LAST-MODIFIED:20250212T120550Z
UID:7484-1739719800-1739723400@www.duoboef.com
SUMMARY:BÖF...grenzenlos anders 2025 in Wartenberg
DESCRIPTION:!!!Bitte beachten: Der Veranstaltungsort hat sich kurzfristig geändert!!! Unser Konzert findet NICHT in der Klinik Wartenberg statt\, sondern in der Alten Schule im Wittelsbacher Saal\, Nikolaibergstr. 8\, 85456 Wartenberg statt. Die Anmeldung erfolgt weiterhin bis 14. Februar über den Empfang der Klinik Wartenberg unter Tel. (0 87 62) 91 0 gebeten. Wir freuen uns auf viele Besucher*innen in der Alten Schule im Wittelsbacher Saal!
URL:https://www.duoboef.com/event/boef-grenzenlos-anders-2025-in-wartenberg/
LOCATION:Wittelsbacher Saal\, Nikolaibergstr. 8\, Wartenberg\, Bayern\, 85456\, Germany
ATTACH;FMTTYPE=image/jpeg:https://www.duoboef.com/wp-content/uploads/2024/08/boef_0571_sw-1.jpg
END:VEVENT
END:VCALENDAR