BEGIN:VCALENDAR
VERSION:2.0
PRODID:-//BÖF Bayrisch Österreichischer Feinklang - ECPv6.15.16.1//NONSGML v1.0//EN
CALSCALE:GREGORIAN
METHOD:PUBLISH
X-WR-CALNAME:BÖF Bayrisch Österreichischer Feinklang
X-ORIGINAL-URL:https://www.duoboef.com
X-WR-CALDESC:Veranstaltungen für BÖF Bayrisch Österreichischer Feinklang
REFRESH-INTERVAL;VALUE=DURATION:PT1H
X-Robots-Tag:noindex
X-PUBLISHED-TTL:PT1H
BEGIN:VTIMEZONE
TZID:Europe/Berlin
BEGIN:DAYLIGHT
TZOFFSETFROM:+0100
TZOFFSETTO:+0200
TZNAME:CEST
DTSTART:20230326T010000
END:DAYLIGHT
BEGIN:STANDARD
TZOFFSETFROM:+0200
TZOFFSETTO:+0100
TZNAME:CET
DTSTART:20231029T010000
END:STANDARD
BEGIN:DAYLIGHT
TZOFFSETFROM:+0100
TZOFFSETTO:+0200
TZNAME:CEST
DTSTART:20240331T010000
END:DAYLIGHT
BEGIN:STANDARD
TZOFFSETFROM:+0200
TZOFFSETTO:+0100
TZNAME:CET
DTSTART:20241027T010000
END:STANDARD
BEGIN:DAYLIGHT
TZOFFSETFROM:+0100
TZOFFSETTO:+0200
TZNAME:CEST
DTSTART:20250330T010000
END:DAYLIGHT
BEGIN:STANDARD
TZOFFSETFROM:+0200
TZOFFSETTO:+0100
TZNAME:CET
DTSTART:20251026T010000
END:STANDARD
END:VTIMEZONE
BEGIN:VEVENT
DTSTART;TZID=Europe/Berlin:20241119T193000
DTEND;TZID=Europe/Berlin:20241119T213000
DTSTAMP:20260424T045806
CREATED:20240826T175826Z
LAST-MODIFIED:20241111T214222Z
UID:244-1732044600-1732051800@www.duoboef.com
SUMMARY:BÖF...grenzenlos anders 2024 in Altötting
DESCRIPTION:Am 19.11.2024 lassen wir unsere BÖF-Tour 2024 in Altötting in der wunderbaren Max-Keller-Schule ausklingen! Alle Infos zum Konzert finden Sie hier.
URL:https://www.duoboef.com/event/boef-grenzenlos-anders-2024-in-altoetting/
LOCATION:Max-Keller-Schule\, Altötting\, Kapellplatz 36\, Altötting\, Bayern\, 84503\, Deutschland
ATTACH;FMTTYPE=image/jpeg:https://www.duoboef.com/wp-content/uploads/2024/08/boef_0571_sw.jpg
END:VEVENT
END:VCALENDAR