BEGIN:VCALENDAR
VERSION:2.0
PRODID:-//BÖF Bayrisch Österreichischer Feinklang - ECPv6.15.16.1//NONSGML v1.0//EN
CALSCALE:GREGORIAN
METHOD:PUBLISH
X-WR-CALNAME:BÖF Bayrisch Österreichischer Feinklang
X-ORIGINAL-URL:https://www.duoboef.com
X-WR-CALDESC:Veranstaltungen für BÖF Bayrisch Österreichischer Feinklang
REFRESH-INTERVAL;VALUE=DURATION:PT1H
X-Robots-Tag:noindex
X-PUBLISHED-TTL:PT1H
BEGIN:VTIMEZONE
TZID:Europe/Berlin
BEGIN:DAYLIGHT
TZOFFSETFROM:+0100
TZOFFSETTO:+0200
TZNAME:CEST
DTSTART:20210328T010000
END:DAYLIGHT
BEGIN:STANDARD
TZOFFSETFROM:+0200
TZOFFSETTO:+0100
TZNAME:CET
DTSTART:20211031T010000
END:STANDARD
BEGIN:DAYLIGHT
TZOFFSETFROM:+0100
TZOFFSETTO:+0200
TZNAME:CEST
DTSTART:20220327T010000
END:DAYLIGHT
BEGIN:STANDARD
TZOFFSETFROM:+0200
TZOFFSETTO:+0100
TZNAME:CET
DTSTART:20221030T010000
END:STANDARD
BEGIN:DAYLIGHT
TZOFFSETFROM:+0100
TZOFFSETTO:+0200
TZNAME:CEST
DTSTART:20230326T010000
END:DAYLIGHT
BEGIN:STANDARD
TZOFFSETFROM:+0200
TZOFFSETTO:+0100
TZNAME:CET
DTSTART:20231029T010000
END:STANDARD
END:VTIMEZONE
BEGIN:VEVENT
DTSTART;TZID=Europe/Berlin:20221018T193000
DTEND;TZID=Europe/Berlin:20221018T213000
DTSTAMP:20260425T231914
CREATED:20210516T164905Z
LAST-MODIFIED:20210516T164905Z
UID:7166-1666121400-1666128600@www.duoboef.com
SUMMARY:BÖF...grenzenlos anders 2022 in Altötting
DESCRIPTION:Wir freuen uns sehr auf unsere nächste „BÖF-Herbsttour 2022“-Station am 18.10.2022 im Rahmen der „Dienstagskonzerte“ ab 19:30 Uhr in der Aula der Max-Keller-Schule in Altötting! \nDer Einlass beginnt um 19:00 Uhr. Eine Reservierung ist nicht nötig\, jedoch empfiehlt es sich\, rechtzeitig zum Einlassbeginn da zu sein. \nDer Eintritt ist frei – um Spenden wird gebeten. \nHier geht es zu allen Infos zum Konzert.
URL:https://www.duoboef.com/event/boef-grenzenlos-anders-2022-in-altoetting/
LOCATION:Max-Keller-Schule\, Kapellplatz 36\, Altötting\, Bayern\, 84503\, Germany
ATTACH;FMTTYPE=:
END:VEVENT
END:VCALENDAR