BEGIN:VCALENDAR
VERSION:2.0
PRODID:-//BÖF Bayrisch Österreichischer Feinklang - ECPv6.15.16.1//NONSGML v1.0//EN
CALSCALE:GREGORIAN
METHOD:PUBLISH
X-WR-CALNAME:BÖF Bayrisch Österreichischer Feinklang
X-ORIGINAL-URL:https://www.duoboef.com
X-WR-CALDESC:Veranstaltungen für BÖF Bayrisch Österreichischer Feinklang
REFRESH-INTERVAL;VALUE=DURATION:PT1H
X-Robots-Tag:noindex
X-PUBLISHED-TTL:PT1H
BEGIN:VTIMEZONE
TZID:Europe/Berlin
BEGIN:DAYLIGHT
TZOFFSETFROM:+0100
TZOFFSETTO:+0200
TZNAME:CEST
DTSTART:20210328T010000
END:DAYLIGHT
BEGIN:STANDARD
TZOFFSETFROM:+0200
TZOFFSETTO:+0100
TZNAME:CET
DTSTART:20211031T010000
END:STANDARD
BEGIN:DAYLIGHT
TZOFFSETFROM:+0100
TZOFFSETTO:+0200
TZNAME:CEST
DTSTART:20220327T010000
END:DAYLIGHT
BEGIN:STANDARD
TZOFFSETFROM:+0200
TZOFFSETTO:+0100
TZNAME:CET
DTSTART:20221030T010000
END:STANDARD
BEGIN:DAYLIGHT
TZOFFSETFROM:+0100
TZOFFSETTO:+0200
TZNAME:CEST
DTSTART:20230326T010000
END:DAYLIGHT
BEGIN:STANDARD
TZOFFSETFROM:+0200
TZOFFSETTO:+0100
TZNAME:CET
DTSTART:20231029T010000
END:STANDARD
END:VTIMEZONE
BEGIN:VEVENT
DTSTART;TZID=Europe/Berlin:20220923T170000
DTEND;TZID=Europe/Berlin:20220923T200000
DTSTAMP:20260426T004338
CREATED:20220915T054624Z
LAST-MODIFIED:20220915T054624Z
UID:7225-1663952400-1663963200@www.duoboef.com
SUMMARY:BÖF...grenzenlos anders - musikalische Umrahmung Vernissage im Frauenkircherl Erding
DESCRIPTION:Nach der Sommerpause freuen wir uns sehr darauf\, die Vernissage der Künstlerinnen Carolin & Katharina Grüner und Karin Gerwien am 23.09.2022 ab 17:00 Uhr im Frauenkircherl Erding musikalisch umrahmen zu dürfen! \n  \n 
URL:https://www.duoboef.com/event/boef-grenzenlos-anders-musikalische-umrahmung-vernissage-im-frauenkircherl-erding/
LOCATION:Frauenkircherl Erding\, Schrannenplatz 2\, Erding\, Bayern\, 85435\, Germany
ATTACH;FMTTYPE=:
END:VEVENT
END:VCALENDAR